BEGIN:VCALENDAR
VERSION:2.0
PRODID:-//Hockey Gesellschaft Nürnberg - ECPv6.15.20//NONSGML v1.0//EN
CALSCALE:GREGORIAN
METHOD:PUBLISH
X-ORIGINAL-URL:https://hgnuernberg.de
X-WR-CALDESC:Veranstaltungen für Hockey Gesellschaft Nürnberg
REFRESH-INTERVAL;VALUE=DURATION:PT1H
X-Robots-Tag:noindex
X-PUBLISHED-TTL:PT1H
BEGIN:VTIMEZONE
TZID:Europe/Berlin
BEGIN:DAYLIGHT
TZOFFSETFROM:+0100
TZOFFSETTO:+0200
TZNAME:CEST
DTSTART:20250330T010000
END:DAYLIGHT
BEGIN:STANDARD
TZOFFSETFROM:+0200
TZOFFSETTO:+0100
TZNAME:CET
DTSTART:20251026T010000
END:STANDARD
BEGIN:DAYLIGHT
TZOFFSETFROM:+0100
TZOFFSETTO:+0200
TZNAME:CEST
DTSTART:20260329T010000
END:DAYLIGHT
BEGIN:STANDARD
TZOFFSETFROM:+0200
TZOFFSETTO:+0100
TZNAME:CET
DTSTART:20261025T010000
END:STANDARD
BEGIN:DAYLIGHT
TZOFFSETFROM:+0100
TZOFFSETTO:+0200
TZNAME:CEST
DTSTART:20270328T010000
END:DAYLIGHT
BEGIN:STANDARD
TZOFFSETFROM:+0200
TZOFFSETTO:+0100
TZNAME:CET
DTSTART:20271031T010000
END:STANDARD
END:VTIMEZONE
BEGIN:VEVENT
DTSTART;TZID=Europe/Berlin:20260627T100000
DTEND;TZID=Europe/Berlin:20260627T130000
DTSTAMP:20260420T053054
CREATED:20260415T104954Z
LAST-MODIFIED:20260415T104954Z
UID:10000241-1782554400-1782565200@hgnuernberg.de
SUMMARY:mU8 OL // Turnier-Spieltag
DESCRIPTION:
URL:https://hgnuernberg.de/event/mu8-ol-turnier-spieltag-2/
LOCATION:Hockey Gesellschaft Nürnberg\, Buchenbühler Weg 44\, Nürnberg\, Bayern\, 90411\, Deutschland
CATEGORIES:Heimspiel
END:VEVENT
END:VCALENDAR