BEGIN:VCALENDAR
VERSION:2.0
PRODID:-//Hockey Gesellschaft Nürnberg - ECPv6.15.20//NONSGML v1.0//EN
CALSCALE:GREGORIAN
METHOD:PUBLISH
X-ORIGINAL-URL:https://hgnuernberg.de
X-WR-CALDESC:Veranstaltungen für Hockey Gesellschaft Nürnberg
REFRESH-INTERVAL;VALUE=DURATION:PT1H
X-Robots-Tag:noindex
X-PUBLISHED-TTL:PT1H
BEGIN:VTIMEZONE
TZID:Europe/Berlin
BEGIN:DAYLIGHT
TZOFFSETFROM:+0100
TZOFFSETTO:+0200
TZNAME:CEST
DTSTART:20250330T010000
END:DAYLIGHT
BEGIN:STANDARD
TZOFFSETFROM:+0200
TZOFFSETTO:+0100
TZNAME:CET
DTSTART:20251026T010000
END:STANDARD
BEGIN:DAYLIGHT
TZOFFSETFROM:+0100
TZOFFSETTO:+0200
TZNAME:CEST
DTSTART:20260329T010000
END:DAYLIGHT
BEGIN:STANDARD
TZOFFSETFROM:+0200
TZOFFSETTO:+0100
TZNAME:CET
DTSTART:20261025T010000
END:STANDARD
BEGIN:DAYLIGHT
TZOFFSETFROM:+0100
TZOFFSETTO:+0200
TZNAME:CEST
DTSTART:20270328T010000
END:DAYLIGHT
BEGIN:STANDARD
TZOFFSETFROM:+0200
TZOFFSETTO:+0100
TZNAME:CET
DTSTART:20271031T010000
END:STANDARD
END:VTIMEZONE
BEGIN:VEVENT
DTSTART;TZID=Europe/Berlin:20260620T140000
DTEND;TZID=Europe/Berlin:20260620T153000
DTSTAMP:20260420T004804
CREATED:20260415T104939Z
LAST-MODIFIED:20260415T104939Z
UID:10000237-1781964000-1781969400@hgnuernberg.de
SUMMARY:wU14 // HGN : TBE
DESCRIPTION:
URL:https://hgnuernberg.de/event/wu14-hgn-tbe/
LOCATION:Hockey Gesellschaft Nürnberg\, Buchenbühler Weg 44\, Nürnberg\, Bayern\, 90411\, Deutschland
CATEGORIES:Heimspiel
END:VEVENT
BEGIN:VEVENT
DTSTART;TZID=Europe/Berlin:20260621T100000
DTEND;TZID=Europe/Berlin:20260621T113000
DTSTAMP:20260420T004804
CREATED:20260415T104940Z
LAST-MODIFIED:20260415T104940Z
UID:10000238-1782036000-1782041400@hgnuernberg.de
SUMMARY:mU12 VL // HGN 2 : CaM
DESCRIPTION:
URL:https://hgnuernberg.de/event/mu12-vl-hgn-2-cam/
LOCATION:Hockey Gesellschaft Nürnberg\, Buchenbühler Weg 44\, Nürnberg\, Bayern\, 90411\, Deutschland
CATEGORIES:Heimspiel
END:VEVENT
BEGIN:VEVENT
DTSTART;TZID=Europe/Berlin:20260621T120000
DTEND;TZID=Europe/Berlin:20260621T133000
DTSTAMP:20260420T004804
CREATED:20260415T104954Z
LAST-MODIFIED:20260415T104954Z
UID:10000239-1782043200-1782048600@hgnuernberg.de
SUMMARY:mU12 // HGN : NHTC
DESCRIPTION:
URL:https://hgnuernberg.de/event/mu12-hgn-nhtc/
LOCATION:Hockey Gesellschaft Nürnberg\, Buchenbühler Weg 44\, Nürnberg\, Bayern\, 90411\, Deutschland
CATEGORIES:Heimspiel
END:VEVENT
BEGIN:VEVENT
DTSTART;TZID=Europe/Berlin:20260621T140000
DTEND;TZID=Europe/Berlin:20260621T153000
DTSTAMP:20260420T004804
CREATED:20260415T104954Z
LAST-MODIFIED:20260415T104954Z
UID:10000240-1782050400-1782055800@hgnuernberg.de
SUMMARY:wU16 // HGN : TBE
DESCRIPTION:
URL:https://hgnuernberg.de/event/wu16-hgn-tbe-2/
LOCATION:Hockey Gesellschaft Nürnberg\, Buchenbühler Weg 44\, Nürnberg\, Bayern\, 90411\, Deutschland
CATEGORIES:Heimspiel
END:VEVENT
END:VCALENDAR