BEGIN:VCALENDAR
VERSION:2.0
PRODID:-//Hockey Gesellschaft Nürnberg - ECPv6.15.20//NONSGML v1.0//EN
CALSCALE:GREGORIAN
METHOD:PUBLISH
X-WR-CALNAME:Hockey Gesellschaft Nürnberg
X-ORIGINAL-URL:https://hgnuernberg.de
X-WR-CALDESC:Veranstaltungen für Hockey Gesellschaft Nürnberg
REFRESH-INTERVAL;VALUE=DURATION:PT1H
X-Robots-Tag:noindex
X-PUBLISHED-TTL:PT1H
BEGIN:VTIMEZONE
TZID:Europe/Berlin
BEGIN:DAYLIGHT
TZOFFSETFROM:+0100
TZOFFSETTO:+0200
TZNAME:CEST
DTSTART:20230326T010000
END:DAYLIGHT
BEGIN:STANDARD
TZOFFSETFROM:+0200
TZOFFSETTO:+0100
TZNAME:CET
DTSTART:20231029T010000
END:STANDARD
BEGIN:DAYLIGHT
TZOFFSETFROM:+0100
TZOFFSETTO:+0200
TZNAME:CEST
DTSTART:20240331T010000
END:DAYLIGHT
BEGIN:STANDARD
TZOFFSETFROM:+0200
TZOFFSETTO:+0100
TZNAME:CET
DTSTART:20241027T010000
END:STANDARD
BEGIN:DAYLIGHT
TZOFFSETFROM:+0100
TZOFFSETTO:+0200
TZNAME:CEST
DTSTART:20250330T010000
END:DAYLIGHT
BEGIN:STANDARD
TZOFFSETFROM:+0200
TZOFFSETTO:+0100
TZNAME:CET
DTSTART:20251026T010000
END:STANDARD
BEGIN:DAYLIGHT
TZOFFSETFROM:+0100
TZOFFSETTO:+0200
TZNAME:CEST
DTSTART:20260329T010000
END:DAYLIGHT
BEGIN:STANDARD
TZOFFSETFROM:+0200
TZOFFSETTO:+0100
TZNAME:CET
DTSTART:20261025T010000
END:STANDARD
END:VTIMEZONE
BEGIN:VEVENT
DTSTART;VALUE=DATE:20250405
DTEND;VALUE=DATE:20250428
DTSTAMP:20260421T102600
CREATED:20240114T092047Z
LAST-MODIFIED:20250413T173844Z
UID:10000188-1743811200-1745798399@hgnuernberg.de
SUMMARY:ÜBERFLIEGER TURNIER
DESCRIPTION:Im Frühjahr 2025 steht die Erneuerung unseres Platz 1 an. Daher müssen wir das Turnier auf zwei Wochenenden aufteilen und werden auch weniger Mannschaften zum Turnier einladen können als bisher. \nTERMINE \nNormalerweise findet das Überfliegerturnier am letzten Wochenende der Osterferien statt. Diesen Termin wollen wir auch dieses Jahr wieder beibehalten – zumindest für einen Teil des Turniers. \nNach Berücksichtigung aller Ferien\, Bauarbeiten und anderer (Spiel)Pläne haben wir nun folgende Termine festgelegt: \nmU12 und mU14:          5./6. April 2025 \nwU12 und wU14:            25./26./27. April 2025 \nJungs-Turnier  \nDas Wetter hat wie letztes Jahr wunderbar mitgespielt (den Temperatursturz von Sa auf So lassen wir mal außen vor 😉) und wir konnten das Turnier über zwei Tage bei Sonne genießen. \nIm Teilnehmerfeld waren auch dieses einige Stammgäste\, die schon seit ein paar Jahren den Weg zu uns nach Nürnberg antreten – der Mannheimer HC\, Post SV Wien\, SV Böblingen\, HTC Kickers Stuttgart und HC Ludwigsburg. \nAlle Ergebnisse findet ihr auf https://www.tournify.de/live/ueberflieger2025m \nHINWEIS ZUM MÄDCHEN-TURNIER  \nDie HGN-Damen spielen am 26. April um 14:00 ein Saisonspiel in der 2. Hockey-Bundesliga gegen Feudenheim. Aus diesem Grund müssen wir den Platz für 2\,5 Stunden freigeben und die Spielzeiten am Freitag einplanen. \nDer Spielplan ist jetzt auf Tournify verfügbar https://www.tournify.de/live/ueberflieger2025w \n 
URL:https://hgnuernberg.de/event/ueberflieger/
LOCATION:Hockey Gesellschaft Nürnberg\, Buchenbühler Weg 44\, Nürnberg\, Bayern\, 90411\, Deutschland
ATTACH;FMTTYPE=image/png:https://hgnuernberg.de/wp-content/uploads/2022/04/HGN-Event.png
END:VEVENT
BEGIN:VEVENT
DTSTART;VALUE=DATE:20240729
DTEND;VALUE=DATE:20240803
DTSTAMP:20260421T102600
CREATED:20240114T092612Z
LAST-MODIFIED:20240114T092612Z
UID:10000186-1722211200-1722643199@hgnuernberg.de
SUMMARY:SOMMERCAMP 2024
DESCRIPTION:
URL:https://hgnuernberg.de/event/sommercamp-2024/
LOCATION:Hockey Gesellschaft Nürnberg\, Buchenbühler Weg 44\, Nürnberg\, Bayern\, 90411\, Deutschland
ATTACH;FMTTYPE=image/png:https://hgnuernberg.de/wp-content/uploads/2022/04/HGN-Event.png
END:VEVENT
END:VCALENDAR